BEGIN:VCALENDAR
VERSION:2.0
PRODID:-//jEvents 2.0 for Joomla//EN
CALSCALE:GREGORIAN
METHOD:PUBLISH
BEGIN:VTIMEZONE
TZID:Europe/Berlin
BEGIN:STANDARD
DTSTART:20151025T020000
RDATE:20160327T030000
TZOFFSETFROM:+0200
TZOFFSETTO:+0100
TZNAME:Europe/Berlin CET
END:STANDARD
BEGIN:STANDARD
DTSTART:20161030T020000
RDATE:20170326T030000
TZOFFSETFROM:+0200
TZOFFSETTO:+0100
TZNAME:Europe/Berlin CET
END:STANDARD
BEGIN:STANDARD
DTSTART:20171029T020000
RDATE:20180325T030000
TZOFFSETFROM:+0200
TZOFFSETTO:+0100
TZNAME:Europe/Berlin CET
END:STANDARD
BEGIN:STANDARD
DTSTART:20181028T020000
RDATE:20190331T030000
TZOFFSETFROM:+0200
TZOFFSETTO:+0100
TZNAME:Europe/Berlin CET
END:STANDARD
BEGIN:STANDARD
DTSTART:20191027T020000
RDATE:20200329T030000
TZOFFSETFROM:+0200
TZOFFSETTO:+0100
TZNAME:Europe/Berlin CET
END:STANDARD
BEGIN:STANDARD
DTSTART:20201025T020000
RDATE:20210328T030000
TZOFFSETFROM:+0200
TZOFFSETTO:+0100
TZNAME:Europe/Berlin CET
END:STANDARD
BEGIN:STANDARD
DTSTART:20211031T020000
RDATE:20220327T030000
TZOFFSETFROM:+0200
TZOFFSETTO:+0100
TZNAME:Europe/Berlin CET
END:STANDARD
BEGIN:STANDARD
DTSTART:20221030T020000
RDATE:20230326T030000
TZOFFSETFROM:+0200
TZOFFSETTO:+0100
TZNAME:Europe/Berlin CET
END:STANDARD
BEGIN:STANDARD
DTSTART:20231029T020000
RDATE:20240331T030000
TZOFFSETFROM:+0200
TZOFFSETTO:+0100
TZNAME:Europe/Berlin CET
END:STANDARD
BEGIN:STANDARD
DTSTART:20241027T020000
RDATE:20250330T030000
TZOFFSETFROM:+0200
TZOFFSETTO:+0100
TZNAME:Europe/Berlin CET
END:STANDARD
BEGIN:STANDARD
DTSTART:20251026T020000
RDATE:20260329T030000
TZOFFSETFROM:+0200
TZOFFSETTO:+0100
TZNAME:Europe/Berlin CET
END:STANDARD
BEGIN:STANDARD
DTSTART:20261025T020000
RDATE:20270328T030000
TZOFFSETFROM:+0200
TZOFFSETTO:+0100
TZNAME:Europe/Berlin CET
END:STANDARD
BEGIN:STANDARD
DTSTART:20271031T020000
RDATE:20280326T030000
TZOFFSETFROM:+0200
TZOFFSETTO:+0100
TZNAME:Europe/Berlin CET
END:STANDARD
BEGIN:STANDARD
DTSTART:20281029T020000
RDATE:20290325T030000
TZOFFSETFROM:+0200
TZOFFSETTO:+0100
TZNAME:Europe/Berlin CET
END:STANDARD
BEGIN:STANDARD
DTSTART:20291028T020000
RDATE:20300331T030000
TZOFFSETFROM:+0200
TZOFFSETTO:+0100
TZNAME:Europe/Berlin CET
END:STANDARD
BEGIN:STANDARD
DTSTART:20301027T020000
RDATE:20310330T030000
TZOFFSETFROM:+0200
TZOFFSETTO:+0100
TZNAME:Europe/Berlin CET
END:STANDARD
BEGIN:STANDARD
DTSTART:20311026T020000
RDATE:20320328T030000
TZOFFSETFROM:+0200
TZOFFSETTO:+0100
TZNAME:Europe/Berlin CET
END:STANDARD
BEGIN:STANDARD
DTSTART:20321031T020000
RDATE:20330327T030000
TZOFFSETFROM:+0200
TZOFFSETTO:+0100
TZNAME:Europe/Berlin CET
END:STANDARD
BEGIN:STANDARD
DTSTART:20331030T020000
RDATE:20340326T030000
TZOFFSETFROM:+0200
TZOFFSETTO:+0100
TZNAME:Europe/Berlin CET
END:STANDARD
BEGIN:STANDARD
DTSTART:20341029T020000
RDATE:20350325T030000
TZOFFSETFROM:+0200
TZOFFSETTO:+0100
TZNAME:Europe/Berlin CET
END:STANDARD
BEGIN:STANDARD
DTSTART:20351028T020000
RDATE:20360330T030000
TZOFFSETFROM:+0200
TZOFFSETTO:+0100
TZNAME:Europe/Berlin CET
END:STANDARD
BEGIN:DAYLIGHT
DTSTART:20150716T140000
RDATE:20151025T020000
TZOFFSETFROM:+0100
TZOFFSETTO:+0200
TZNAME:Europe/Berlin CEST
END:DAYLIGHT
BEGIN:DAYLIGHT
DTSTART:20160327T030000
RDATE:20161030T020000
TZOFFSETFROM:+0100
TZOFFSETTO:+0200
TZNAME:Europe/Berlin CEST
END:DAYLIGHT
BEGIN:DAYLIGHT
DTSTART:20170326T030000
RDATE:20171029T020000
TZOFFSETFROM:+0100
TZOFFSETTO:+0200
TZNAME:Europe/Berlin CEST
END:DAYLIGHT
BEGIN:DAYLIGHT
DTSTART:20180325T030000
RDATE:20181028T020000
TZOFFSETFROM:+0100
TZOFFSETTO:+0200
TZNAME:Europe/Berlin CEST
END:DAYLIGHT
BEGIN:DAYLIGHT
DTSTART:20190331T030000
RDATE:20191027T020000
TZOFFSETFROM:+0100
TZOFFSETTO:+0200
TZNAME:Europe/Berlin CEST
END:DAYLIGHT
BEGIN:DAYLIGHT
DTSTART:20200329T030000
RDATE:20201025T020000
TZOFFSETFROM:+0100
TZOFFSETTO:+0200
TZNAME:Europe/Berlin CEST
END:DAYLIGHT
BEGIN:DAYLIGHT
DTSTART:20210328T030000
RDATE:20211031T020000
TZOFFSETFROM:+0100
TZOFFSETTO:+0200
TZNAME:Europe/Berlin CEST
END:DAYLIGHT
BEGIN:DAYLIGHT
DTSTART:20220327T030000
RDATE:20221030T020000
TZOFFSETFROM:+0100
TZOFFSETTO:+0200
TZNAME:Europe/Berlin CEST
END:DAYLIGHT
BEGIN:DAYLIGHT
DTSTART:20230326T030000
RDATE:20231029T020000
TZOFFSETFROM:+0100
TZOFFSETTO:+0200
TZNAME:Europe/Berlin CEST
END:DAYLIGHT
BEGIN:DAYLIGHT
DTSTART:20240331T030000
RDATE:20241027T020000
TZOFFSETFROM:+0100
TZOFFSETTO:+0200
TZNAME:Europe/Berlin CEST
END:DAYLIGHT
BEGIN:DAYLIGHT
DTSTART:20250330T030000
RDATE:20251026T020000
TZOFFSETFROM:+0100
TZOFFSETTO:+0200
TZNAME:Europe/Berlin CEST
END:DAYLIGHT
BEGIN:DAYLIGHT
DTSTART:20260329T030000
RDATE:20261025T020000
TZOFFSETFROM:+0100
TZOFFSETTO:+0200
TZNAME:Europe/Berlin CEST
END:DAYLIGHT
BEGIN:DAYLIGHT
DTSTART:20270328T030000
RDATE:20271031T020000
TZOFFSETFROM:+0100
TZOFFSETTO:+0200
TZNAME:Europe/Berlin CEST
END:DAYLIGHT
BEGIN:DAYLIGHT
DTSTART:20280326T030000
RDATE:20281029T020000
TZOFFSETFROM:+0100
TZOFFSETTO:+0200
TZNAME:Europe/Berlin CEST
END:DAYLIGHT
BEGIN:DAYLIGHT
DTSTART:20290325T030000
RDATE:20291028T020000
TZOFFSETFROM:+0100
TZOFFSETTO:+0200
TZNAME:Europe/Berlin CEST
END:DAYLIGHT
BEGIN:DAYLIGHT
DTSTART:20300331T030000
RDATE:20301027T020000
TZOFFSETFROM:+0100
TZOFFSETTO:+0200
TZNAME:Europe/Berlin CEST
END:DAYLIGHT
BEGIN:DAYLIGHT
DTSTART:20310330T030000
RDATE:20311026T020000
TZOFFSETFROM:+0100
TZOFFSETTO:+0200
TZNAME:Europe/Berlin CEST
END:DAYLIGHT
BEGIN:DAYLIGHT
DTSTART:20320328T030000
RDATE:20321031T020000
TZOFFSETFROM:+0100
TZOFFSETTO:+0200
TZNAME:Europe/Berlin CEST
END:DAYLIGHT
BEGIN:DAYLIGHT
DTSTART:20330327T030000
RDATE:20331030T020000
TZOFFSETFROM:+0100
TZOFFSETTO:+0200
TZNAME:Europe/Berlin CEST
END:DAYLIGHT
BEGIN:DAYLIGHT
DTSTART:20340326T030000
RDATE:20341029T020000
TZOFFSETFROM:+0100
TZOFFSETTO:+0200
TZNAME:Europe/Berlin CEST
END:DAYLIGHT
BEGIN:DAYLIGHT
DTSTART:20350325T030000
RDATE:20351028T020000
TZOFFSETFROM:+0100
TZOFFSETTO:+0200
TZNAME:Europe/Berlin CEST
END:DAYLIGHT
END:VTIMEZONE
BEGIN:VEVENT
UID:825346935430a07572df51345beef459
CATEGORIES:Warnmeldungen
CREATED:20160519T164121
SUMMARY:Neckarsperrung zwischen Ernst-Walz-Brücke und Theodor-Heuss-Brücke wegen der Stadtmeisterschaften SVH
LOCATION:Neckar: Abschnitt Heidelberg. Ernst-Walz-Brücke Neckar-Km. 23\,0 (49° 24.66
 1' N 8° 40.571' E) bis Theodor-Heuss-Brück
DESCRIPTION:AbschnittNeckarabschnitt zwischen der Ernst-Walz-Brücke Neckar-Km. 23,0 (49
 ° 24.661' N 8° 40.571' E) und der Theodor-Heuss-Brücke Neckar-Km. 24,2 (49°
  24.721' N 8° 41.556' E).\nBeschreibungAufgrund einer Veranstaltung wird di
 e Schifffahrt zwischen km 23,04 (Ernst-Walz-Brücke) und km 24,2 (Theodor-He
 uss-Brücke) am Samstag den 16.07.2016 von 14 Uhr bis 18 Uhr und am Sonntag 
 den 17.07.2016 von 09 Uhr bis 12 Uhr und 13 Uhr bis 16 Uhr gesperrt.\nHinwe
 is zur SperrungWasserstraße:       Neckarkm von:             23,0 (49° 24.6
 61' N 8° 40.571' E)km bis:             24,2 (49° 24.721' N 8° 41.556' E)Ört
 lichkeit:        Fahrwasser NeckarEinschränkung:      SperreZielgruppe:    
      alleRichtung:           alle RichtungenBetroffener Bereich:ganzgültig 
 von:         16. Jul. 2016  14:00 Uhrgültig bis:         16. Jul. 2016  18:
 00 Uhrgültig von:         17. Jul. 2016  09:00 Uhrgültig bis:         17. J
 ul. 2016  12:00 Uhrgültig von:         17. Jul. 2016  13:00 Uhrgültig bis: 
         17. Jul. 2016  16:00 UhrQuelle: ELWIS (http://www.elwis.de/mvc/main
 .php?modul=nfb&amp;action=searchOne&amp;LANGUAGE=DE&amp;NFB_ID=0962/2016)\n
X-ALT-DESC;FMTTYPE=text/html:<div class="jEventalertmessages"><h2>Abschnitt</h2><p>Neckarabschnitt zwisc
 hen der Ernst-Walz-Brücke Neckar-Km. 23,0 (49° 24.661' N 8° 40.571' E) und 
 der Theodor-Heuss-Brücke Neckar-Km. 24,2 (49° 24.721' N 8° 41.556' E).</p><
 h2>Beschreibung</h2>Aufgrund einer Veranstaltung wird die Schifffahrt zwisc
 hen km 23,04 (Ernst-Walz-Brücke) und km 24,2 (Theodor-Heuss-Brücke) am Sams
 tag den 16.07.2016 von 14 Uhr bis 18 Uhr und am Sonntag den 17.07.2016 von 
 09 Uhr bis 12 Uhr und 13 Uhr bis 16 Uhr gesperrt.<br /><h2>Hinweis zur Sper
 rung</h2><pre>Wasserstraße:       Neckarkm von:             23,0 (49° 24.66
 1' N 8° 40.571' E)km bis:             24,2 (49° 24.721' N 8° 41.556' E)Örtl
 ichkeit:        Fahrwasser NeckarEinschränkung:      SperreZielgruppe:     
     alleRichtung:           alle RichtungenBetroffener Bereich:ganzgültig v
 on:         16. Jul. 2016  14:00 Uhrgültig bis:         16. Jul. 2016  18:0
 0 Uhrgültig von:         17. Jul. 2016  09:00 Uhrgültig bis:         17. Ju
 l. 2016  12:00 Uhrgültig von:         17. Jul. 2016  13:00 Uhrgültig bis:  
        17. Jul. 2016  16:00 Uhr</pre><p>Quelle: <a href="http://www.elwis.d
 e/mvc/main.php?modul=nfb&action=searchOne&LANGUAGE=DE&NFB_ID=0962/2016" tar
 get="_blank">ELWIS</a></p></div>
DTSTAMP:20260422T221322
DTSTART;TZID=Europe/Berlin:20160716T140000
DTEND;TZID=Europe/Berlin:20160717T160000
SEQUENCE:0
TRANSP:OPAQUE
END:VEVENT
END:VCALENDAR