BEGIN:VCALENDAR
VERSION:2.0
PRODID:-//jEvents 2.0 for Joomla//EN
CALSCALE:GREGORIAN
METHOD:PUBLISH
BEGIN:VTIMEZONE
TZID:Europe/Berlin
BEGIN:STANDARD
DTSTART:20141026T020000
RDATE:20150329T030000
TZOFFSETFROM:+0200
TZOFFSETTO:+0100
TZNAME:Europe/Berlin CET
END:STANDARD
BEGIN:STANDARD
DTSTART:20151025T020000
RDATE:20160327T030000
TZOFFSETFROM:+0200
TZOFFSETTO:+0100
TZNAME:Europe/Berlin CET
END:STANDARD
BEGIN:STANDARD
DTSTART:20161030T020000
RDATE:20170326T030000
TZOFFSETFROM:+0200
TZOFFSETTO:+0100
TZNAME:Europe/Berlin CET
END:STANDARD
BEGIN:STANDARD
DTSTART:20171029T020000
RDATE:20180325T030000
TZOFFSETFROM:+0200
TZOFFSETTO:+0100
TZNAME:Europe/Berlin CET
END:STANDARD
BEGIN:STANDARD
DTSTART:20181028T020000
RDATE:20190331T030000
TZOFFSETFROM:+0200
TZOFFSETTO:+0100
TZNAME:Europe/Berlin CET
END:STANDARD
BEGIN:STANDARD
DTSTART:20191027T020000
RDATE:20200329T030000
TZOFFSETFROM:+0200
TZOFFSETTO:+0100
TZNAME:Europe/Berlin CET
END:STANDARD
BEGIN:STANDARD
DTSTART:20201025T020000
RDATE:20210328T030000
TZOFFSETFROM:+0200
TZOFFSETTO:+0100
TZNAME:Europe/Berlin CET
END:STANDARD
BEGIN:STANDARD
DTSTART:20211031T020000
RDATE:20220327T030000
TZOFFSETFROM:+0200
TZOFFSETTO:+0100
TZNAME:Europe/Berlin CET
END:STANDARD
BEGIN:STANDARD
DTSTART:20221030T020000
RDATE:20230326T030000
TZOFFSETFROM:+0200
TZOFFSETTO:+0100
TZNAME:Europe/Berlin CET
END:STANDARD
BEGIN:STANDARD
DTSTART:20231029T020000
RDATE:20240331T030000
TZOFFSETFROM:+0200
TZOFFSETTO:+0100
TZNAME:Europe/Berlin CET
END:STANDARD
BEGIN:STANDARD
DTSTART:20241027T020000
RDATE:20250330T030000
TZOFFSETFROM:+0200
TZOFFSETTO:+0100
TZNAME:Europe/Berlin CET
END:STANDARD
BEGIN:STANDARD
DTSTART:20251026T020000
RDATE:20260329T030000
TZOFFSETFROM:+0200
TZOFFSETTO:+0100
TZNAME:Europe/Berlin CET
END:STANDARD
BEGIN:STANDARD
DTSTART:20261025T020000
RDATE:20270328T030000
TZOFFSETFROM:+0200
TZOFFSETTO:+0100
TZNAME:Europe/Berlin CET
END:STANDARD
BEGIN:STANDARD
DTSTART:20271031T020000
RDATE:20280326T030000
TZOFFSETFROM:+0200
TZOFFSETTO:+0100
TZNAME:Europe/Berlin CET
END:STANDARD
BEGIN:STANDARD
DTSTART:20281029T020000
RDATE:20290325T030000
TZOFFSETFROM:+0200
TZOFFSETTO:+0100
TZNAME:Europe/Berlin CET
END:STANDARD
BEGIN:STANDARD
DTSTART:20291028T020000
RDATE:20300331T030000
TZOFFSETFROM:+0200
TZOFFSETTO:+0100
TZNAME:Europe/Berlin CET
END:STANDARD
BEGIN:STANDARD
DTSTART:20301027T020000
RDATE:20310330T030000
TZOFFSETFROM:+0200
TZOFFSETTO:+0100
TZNAME:Europe/Berlin CET
END:STANDARD
BEGIN:STANDARD
DTSTART:20311026T020000
RDATE:20320328T030000
TZOFFSETFROM:+0200
TZOFFSETTO:+0100
TZNAME:Europe/Berlin CET
END:STANDARD
BEGIN:STANDARD
DTSTART:20321031T020000
RDATE:20330327T030000
TZOFFSETFROM:+0200
TZOFFSETTO:+0100
TZNAME:Europe/Berlin CET
END:STANDARD
BEGIN:STANDARD
DTSTART:20331030T020000
RDATE:20340326T030000
TZOFFSETFROM:+0200
TZOFFSETTO:+0100
TZNAME:Europe/Berlin CET
END:STANDARD
BEGIN:STANDARD
DTSTART:20341029T020000
RDATE:20350325T030000
TZOFFSETFROM:+0200
TZOFFSETTO:+0100
TZNAME:Europe/Berlin CET
END:STANDARD
BEGIN:STANDARD
DTSTART:20351028T020000
RDATE:20360330T030000
TZOFFSETFROM:+0200
TZOFFSETTO:+0100
TZNAME:Europe/Berlin CET
END:STANDARD
BEGIN:DAYLIGHT
DTSTART:20140515T090000
RDATE:20141026T020000
TZOFFSETFROM:+0100
TZOFFSETTO:+0200
TZNAME:Europe/Berlin CEST
END:DAYLIGHT
BEGIN:DAYLIGHT
DTSTART:20150329T030000
RDATE:20151025T020000
TZOFFSETFROM:+0100
TZOFFSETTO:+0200
TZNAME:Europe/Berlin CEST
END:DAYLIGHT
BEGIN:DAYLIGHT
DTSTART:20160327T030000
RDATE:20161030T020000
TZOFFSETFROM:+0100
TZOFFSETTO:+0200
TZNAME:Europe/Berlin CEST
END:DAYLIGHT
BEGIN:DAYLIGHT
DTSTART:20170326T030000
RDATE:20171029T020000
TZOFFSETFROM:+0100
TZOFFSETTO:+0200
TZNAME:Europe/Berlin CEST
END:DAYLIGHT
BEGIN:DAYLIGHT
DTSTART:20180325T030000
RDATE:20181028T020000
TZOFFSETFROM:+0100
TZOFFSETTO:+0200
TZNAME:Europe/Berlin CEST
END:DAYLIGHT
BEGIN:DAYLIGHT
DTSTART:20190331T030000
RDATE:20191027T020000
TZOFFSETFROM:+0100
TZOFFSETTO:+0200
TZNAME:Europe/Berlin CEST
END:DAYLIGHT
BEGIN:DAYLIGHT
DTSTART:20200329T030000
RDATE:20201025T020000
TZOFFSETFROM:+0100
TZOFFSETTO:+0200
TZNAME:Europe/Berlin CEST
END:DAYLIGHT
BEGIN:DAYLIGHT
DTSTART:20210328T030000
RDATE:20211031T020000
TZOFFSETFROM:+0100
TZOFFSETTO:+0200
TZNAME:Europe/Berlin CEST
END:DAYLIGHT
BEGIN:DAYLIGHT
DTSTART:20220327T030000
RDATE:20221030T020000
TZOFFSETFROM:+0100
TZOFFSETTO:+0200
TZNAME:Europe/Berlin CEST
END:DAYLIGHT
BEGIN:DAYLIGHT
DTSTART:20230326T030000
RDATE:20231029T020000
TZOFFSETFROM:+0100
TZOFFSETTO:+0200
TZNAME:Europe/Berlin CEST
END:DAYLIGHT
BEGIN:DAYLIGHT
DTSTART:20240331T030000
RDATE:20241027T020000
TZOFFSETFROM:+0100
TZOFFSETTO:+0200
TZNAME:Europe/Berlin CEST
END:DAYLIGHT
BEGIN:DAYLIGHT
DTSTART:20250330T030000
RDATE:20251026T020000
TZOFFSETFROM:+0100
TZOFFSETTO:+0200
TZNAME:Europe/Berlin CEST
END:DAYLIGHT
BEGIN:DAYLIGHT
DTSTART:20260329T030000
RDATE:20261025T020000
TZOFFSETFROM:+0100
TZOFFSETTO:+0200
TZNAME:Europe/Berlin CEST
END:DAYLIGHT
BEGIN:DAYLIGHT
DTSTART:20270328T030000
RDATE:20271031T020000
TZOFFSETFROM:+0100
TZOFFSETTO:+0200
TZNAME:Europe/Berlin CEST
END:DAYLIGHT
BEGIN:DAYLIGHT
DTSTART:20280326T030000
RDATE:20281029T020000
TZOFFSETFROM:+0100
TZOFFSETTO:+0200
TZNAME:Europe/Berlin CEST
END:DAYLIGHT
BEGIN:DAYLIGHT
DTSTART:20290325T030000
RDATE:20291028T020000
TZOFFSETFROM:+0100
TZOFFSETTO:+0200
TZNAME:Europe/Berlin CEST
END:DAYLIGHT
BEGIN:DAYLIGHT
DTSTART:20300331T030000
RDATE:20301027T020000
TZOFFSETFROM:+0100
TZOFFSETTO:+0200
TZNAME:Europe/Berlin CEST
END:DAYLIGHT
BEGIN:DAYLIGHT
DTSTART:20310330T030000
RDATE:20311026T020000
TZOFFSETFROM:+0100
TZOFFSETTO:+0200
TZNAME:Europe/Berlin CEST
END:DAYLIGHT
BEGIN:DAYLIGHT
DTSTART:20320328T030000
RDATE:20321031T020000
TZOFFSETFROM:+0100
TZOFFSETTO:+0200
TZNAME:Europe/Berlin CEST
END:DAYLIGHT
BEGIN:DAYLIGHT
DTSTART:20330327T030000
RDATE:20331030T020000
TZOFFSETFROM:+0100
TZOFFSETTO:+0200
TZNAME:Europe/Berlin CEST
END:DAYLIGHT
BEGIN:DAYLIGHT
DTSTART:20340326T030000
RDATE:20341029T020000
TZOFFSETFROM:+0100
TZOFFSETTO:+0200
TZNAME:Europe/Berlin CEST
END:DAYLIGHT
BEGIN:DAYLIGHT
DTSTART:20350325T030000
RDATE:20351028T020000
TZOFFSETFROM:+0100
TZOFFSETTO:+0200
TZNAME:Europe/Berlin CEST
END:DAYLIGHT
END:VTIMEZONE
BEGIN:VEVENT
UID:409806145827cd7edaaa3530bc1784bc
CATEGORIES:Warnmeldungen
CREATED:20150416T161818
SUMMARY:Neckarsperrung zwischen Alter Brücke und Ernst-Walz-Brücke wegen einer Veranstaltung
LOCATION:Neckar: Abschnitt Alter Brücke (49° 24.843' N 8° 42.612' E) und Ernst-Walz-
 Brücke (49° 24.661' N 8° 40.571' E)
DESCRIPTION:<div class="jEventalertmessages"><h2>Abschnitt</h2><p>Zwischen Alter Brücke
  und Ernst-Walz-Brücke.</p><h2>Beschreibung</h2><p>Schifffahrtssperre zwisc
 hen km 23,04 und km 25,45 am 16.05.2015, 9 Uhr -11.15 Uhr; 12 Uhr -14.15 Uh
 r; 15 Uhr -17.15 Uhr; 18 Uhr bis 20 Uhr. Am 17.05.2015, 8 Uhr -9.30 Uhr; 10
 .15 Uhr -11.45 Uhr; 12.30 Uhr -14 Uhr; 14.45 Uhr -18 Uhr.</p><p>Die Fahrgas
 tschiffe und Neckarfähre dürfen nur nach Absprache und Weisung der WSP Heid
 elberg die Strecke passieren. Ein Anlegen an -, bzw. ein Ablegen von der St
 eigeranlage bei  Km 24,155 (geographisch rechtes Ufer) ist während der Sper
 rzeiten nicht möglich.</p><h2>Genaue Sperrzeiten</h2><ul><li>gültig von:   
       16. Mai 2015  09:00 Uhr<br />gültig bis:         16. Mai 2015  11:15 
 Uhr</li><li>gültig von:         16. Mai 2015  12:00 Uhr<br />gültig bis:   
       16. Mai 2015  14:15 Uhr</li><li>gültig von:         16. Mai 2015  15:
 00 Uhr<br />gültig bis:         16. Mai 2015  17:15 Uhr</li><li>gültig von:
          16. Mai 2015  18:00 Uhr<br />gültig bis:         16. Mai 2015  20:
 00 Uhr</li><li>gültig von:         17. Mai 2015  08:00 Uhr<br />gültig bis:
          17. Mai 2015  09:30 Uhr</li><li>gültig von:         17. Mai 2015  
 10:15 Uhr<br />gültig bis:         17. Mai 2015  11:45 Uhr</li><li>gültig v
 on:         17. Mai 2015  12:30 Uhr<br />gültig bis:         17. Mai 2015  
 14:00 Uhr</li><li>gültig von:         17. Mai 2015  14:45 Uhr#<br />gültig 
 bis:         17. Mai 2015  18:00 Uhr</li></ul><p>Quelle: <a href="https://w
 ww.elwis.de/mvc/main.php?modul=nfb&action=searchOne&LANGUAGE=DE&NFB_ID=0684
 /2015" target="_blank">ELWIS</a></p></div>
DTSTAMP:20260419T134812
DTSTART;TZID=Europe/Berlin:20150516T090000
DTEND;TZID=Europe/Berlin:20150517T180000
SEQUENCE:0
TRANSP:OPAQUE
END:VEVENT
END:VCALENDAR