BEGIN:VCALENDAR
VERSION:2.0
PRODID:-//jEvents 2.0 for Joomla//EN
CALSCALE:GREGORIAN
METHOD:PUBLISH
BEGIN:VTIMEZONE
TZID:Europe/Berlin
BEGIN:STANDARD
DTSTART:20141026T020000
RDATE:20150329T030000
TZOFFSETFROM:+0200
TZOFFSETTO:+0100
TZNAME:Europe/Berlin CET
END:STANDARD
BEGIN:STANDARD
DTSTART:20151025T020000
RDATE:20160327T030000
TZOFFSETFROM:+0200
TZOFFSETTO:+0100
TZNAME:Europe/Berlin CET
END:STANDARD
BEGIN:STANDARD
DTSTART:20161030T020000
RDATE:20170326T030000
TZOFFSETFROM:+0200
TZOFFSETTO:+0100
TZNAME:Europe/Berlin CET
END:STANDARD
BEGIN:STANDARD
DTSTART:20171029T020000
RDATE:20180325T030000
TZOFFSETFROM:+0200
TZOFFSETTO:+0100
TZNAME:Europe/Berlin CET
END:STANDARD
BEGIN:STANDARD
DTSTART:20181028T020000
RDATE:20190331T030000
TZOFFSETFROM:+0200
TZOFFSETTO:+0100
TZNAME:Europe/Berlin CET
END:STANDARD
BEGIN:STANDARD
DTSTART:20191027T020000
RDATE:20200329T030000
TZOFFSETFROM:+0200
TZOFFSETTO:+0100
TZNAME:Europe/Berlin CET
END:STANDARD
BEGIN:STANDARD
DTSTART:20201025T020000
RDATE:20210328T030000
TZOFFSETFROM:+0200
TZOFFSETTO:+0100
TZNAME:Europe/Berlin CET
END:STANDARD
BEGIN:STANDARD
DTSTART:20211031T020000
RDATE:20220327T030000
TZOFFSETFROM:+0200
TZOFFSETTO:+0100
TZNAME:Europe/Berlin CET
END:STANDARD
BEGIN:STANDARD
DTSTART:20221030T020000
RDATE:20230326T030000
TZOFFSETFROM:+0200
TZOFFSETTO:+0100
TZNAME:Europe/Berlin CET
END:STANDARD
BEGIN:STANDARD
DTSTART:20231029T020000
RDATE:20240331T030000
TZOFFSETFROM:+0200
TZOFFSETTO:+0100
TZNAME:Europe/Berlin CET
END:STANDARD
BEGIN:STANDARD
DTSTART:20241027T020000
RDATE:20250330T030000
TZOFFSETFROM:+0200
TZOFFSETTO:+0100
TZNAME:Europe/Berlin CET
END:STANDARD
BEGIN:STANDARD
DTSTART:20251026T020000
RDATE:20260329T030000
TZOFFSETFROM:+0200
TZOFFSETTO:+0100
TZNAME:Europe/Berlin CET
END:STANDARD
BEGIN:STANDARD
DTSTART:20261025T020000
RDATE:20270328T030000
TZOFFSETFROM:+0200
TZOFFSETTO:+0100
TZNAME:Europe/Berlin CET
END:STANDARD
BEGIN:STANDARD
DTSTART:20271031T020000
RDATE:20280326T030000
TZOFFSETFROM:+0200
TZOFFSETTO:+0100
TZNAME:Europe/Berlin CET
END:STANDARD
BEGIN:STANDARD
DTSTART:20281029T020000
RDATE:20290325T030000
TZOFFSETFROM:+0200
TZOFFSETTO:+0100
TZNAME:Europe/Berlin CET
END:STANDARD
BEGIN:STANDARD
DTSTART:20291028T020000
RDATE:20300331T030000
TZOFFSETFROM:+0200
TZOFFSETTO:+0100
TZNAME:Europe/Berlin CET
END:STANDARD
BEGIN:STANDARD
DTSTART:20301027T020000
RDATE:20310330T030000
TZOFFSETFROM:+0200
TZOFFSETTO:+0100
TZNAME:Europe/Berlin CET
END:STANDARD
BEGIN:STANDARD
DTSTART:20311026T020000
RDATE:20320328T030000
TZOFFSETFROM:+0200
TZOFFSETTO:+0100
TZNAME:Europe/Berlin CET
END:STANDARD
BEGIN:STANDARD
DTSTART:20321031T020000
RDATE:20330327T030000
TZOFFSETFROM:+0200
TZOFFSETTO:+0100
TZNAME:Europe/Berlin CET
END:STANDARD
BEGIN:STANDARD
DTSTART:20331030T020000
RDATE:20340326T030000
TZOFFSETFROM:+0200
TZOFFSETTO:+0100
TZNAME:Europe/Berlin CET
END:STANDARD
BEGIN:STANDARD
DTSTART:20341029T020000
RDATE:20350325T030000
TZOFFSETFROM:+0200
TZOFFSETTO:+0100
TZNAME:Europe/Berlin CET
END:STANDARD
BEGIN:STANDARD
DTSTART:20351028T020000
RDATE:20360330T030000
TZOFFSETFROM:+0200
TZOFFSETTO:+0100
TZNAME:Europe/Berlin CET
END:STANDARD
BEGIN:DAYLIGHT
DTSTART:20140731T000000
RDATE:20141026T020000
TZOFFSETFROM:+0100
TZOFFSETTO:+0200
TZNAME:Europe/Berlin CEST
END:DAYLIGHT
BEGIN:DAYLIGHT
DTSTART:20150329T030000
RDATE:20151025T020000
TZOFFSETFROM:+0100
TZOFFSETTO:+0200
TZNAME:Europe/Berlin CEST
END:DAYLIGHT
BEGIN:DAYLIGHT
DTSTART:20160327T030000
RDATE:20161030T020000
TZOFFSETFROM:+0100
TZOFFSETTO:+0200
TZNAME:Europe/Berlin CEST
END:DAYLIGHT
BEGIN:DAYLIGHT
DTSTART:20170326T030000
RDATE:20171029T020000
TZOFFSETFROM:+0100
TZOFFSETTO:+0200
TZNAME:Europe/Berlin CEST
END:DAYLIGHT
BEGIN:DAYLIGHT
DTSTART:20180325T030000
RDATE:20181028T020000
TZOFFSETFROM:+0100
TZOFFSETTO:+0200
TZNAME:Europe/Berlin CEST
END:DAYLIGHT
BEGIN:DAYLIGHT
DTSTART:20190331T030000
RDATE:20191027T020000
TZOFFSETFROM:+0100
TZOFFSETTO:+0200
TZNAME:Europe/Berlin CEST
END:DAYLIGHT
BEGIN:DAYLIGHT
DTSTART:20200329T030000
RDATE:20201025T020000
TZOFFSETFROM:+0100
TZOFFSETTO:+0200
TZNAME:Europe/Berlin CEST
END:DAYLIGHT
BEGIN:DAYLIGHT
DTSTART:20210328T030000
RDATE:20211031T020000
TZOFFSETFROM:+0100
TZOFFSETTO:+0200
TZNAME:Europe/Berlin CEST
END:DAYLIGHT
BEGIN:DAYLIGHT
DTSTART:20220327T030000
RDATE:20221030T020000
TZOFFSETFROM:+0100
TZOFFSETTO:+0200
TZNAME:Europe/Berlin CEST
END:DAYLIGHT
BEGIN:DAYLIGHT
DTSTART:20230326T030000
RDATE:20231029T020000
TZOFFSETFROM:+0100
TZOFFSETTO:+0200
TZNAME:Europe/Berlin CEST
END:DAYLIGHT
BEGIN:DAYLIGHT
DTSTART:20240331T030000
RDATE:20241027T020000
TZOFFSETFROM:+0100
TZOFFSETTO:+0200
TZNAME:Europe/Berlin CEST
END:DAYLIGHT
BEGIN:DAYLIGHT
DTSTART:20250330T030000
RDATE:20251026T020000
TZOFFSETFROM:+0100
TZOFFSETTO:+0200
TZNAME:Europe/Berlin CEST
END:DAYLIGHT
BEGIN:DAYLIGHT
DTSTART:20260329T030000
RDATE:20261025T020000
TZOFFSETFROM:+0100
TZOFFSETTO:+0200
TZNAME:Europe/Berlin CEST
END:DAYLIGHT
BEGIN:DAYLIGHT
DTSTART:20270328T030000
RDATE:20271031T020000
TZOFFSETFROM:+0100
TZOFFSETTO:+0200
TZNAME:Europe/Berlin CEST
END:DAYLIGHT
BEGIN:DAYLIGHT
DTSTART:20280326T030000
RDATE:20281029T020000
TZOFFSETFROM:+0100
TZOFFSETTO:+0200
TZNAME:Europe/Berlin CEST
END:DAYLIGHT
BEGIN:DAYLIGHT
DTSTART:20290325T030000
RDATE:20291028T020000
TZOFFSETFROM:+0100
TZOFFSETTO:+0200
TZNAME:Europe/Berlin CEST
END:DAYLIGHT
BEGIN:DAYLIGHT
DTSTART:20300331T030000
RDATE:20301027T020000
TZOFFSETFROM:+0100
TZOFFSETTO:+0200
TZNAME:Europe/Berlin CEST
END:DAYLIGHT
BEGIN:DAYLIGHT
DTSTART:20310330T030000
RDATE:20311026T020000
TZOFFSETFROM:+0100
TZOFFSETTO:+0200
TZNAME:Europe/Berlin CEST
END:DAYLIGHT
BEGIN:DAYLIGHT
DTSTART:20320328T030000
RDATE:20321031T020000
TZOFFSETFROM:+0100
TZOFFSETTO:+0200
TZNAME:Europe/Berlin CEST
END:DAYLIGHT
BEGIN:DAYLIGHT
DTSTART:20330327T030000
RDATE:20331030T020000
TZOFFSETFROM:+0100
TZOFFSETTO:+0200
TZNAME:Europe/Berlin CEST
END:DAYLIGHT
BEGIN:DAYLIGHT
DTSTART:20340326T030000
RDATE:20341029T020000
TZOFFSETFROM:+0100
TZOFFSETTO:+0200
TZNAME:Europe/Berlin CEST
END:DAYLIGHT
BEGIN:DAYLIGHT
DTSTART:20350325T030000
RDATE:20351028T020000
TZOFFSETFROM:+0100
TZOFFSETTO:+0200
TZNAME:Europe/Berlin CEST
END:DAYLIGHT
END:VTIMEZONE
BEGIN:VEVENT
UID:c1a1eeb0f66d757bb8944cd6f0c20764
CATEGORIES:Fahrten der Kanuabteilung
CREATED:20150119T210047
SUMMARY:Wanderfahrt Loue (Jura, Frankreich) oder Ruhr
LOCATION:Harkortsee bei Herdecke. Herdecker Kanu-Club 1925\, Mühlenstr.\, 58313 Herd
 ecke
DESCRIPTION:<h2> Wandertour auf der Ruhr</h2><ul><li>Zeitraum: Sa 1.bis Mi 5.8.2015.</l
 i><li>Anfahrt: Sa. 1.8. - erste Paddeletappe.</li><li>Rückfahrt am Mi. 5.8.
 2015.</li><li>Paddeltage: Sonntag - Dienstag.</li><li>Übernachtung auf Camp
 ingplätzen und an Bootshäusern.</li></ul><p>Die Bootsgruppe wird von einem 
 Fahrzeug mit Hänger begleitet, in dem Campingmaterial u.a. Dinge transporti
 ert werden können.</p><ul><li>Empfohlener Bootstyp: Touren- oder Seekajak.<
 /li></ul><p>Wer Interessente hat, der soll sich <a href="cb-profile/emailus
 er?uid=75">bitte melden</a>. Treffen am Di. 14.7.15 um 19.30 im Bootshaus</
 p><h3>Geplanter Streckenverlauf</h3><p>Fluss-km</p><ul><li>87,3    Start: H
 arkortsee bei Herdecke: Herdecker Kanu-Club 1925 (Tel. 02330-4071):  Mühlen
 str. , 58313 Herdecke<br /><ul><li>1 Wehr zum Umtragen bei 83</li><li>1 Weh
 r zum Umtragen bei 74</li></ul></li><li>73,5     KSC Witten (Tel. 015730774
 689): Uferstraße 25, 58452 Witten<ul><li>1 Wehr zum Umtragen bei ?</li></ul
 ></li><li>57,5    Campingplatz C Stolle-Hattingen (Tel. 02324/80038): Ruhrs
 traße 6, 45529 Hattingen</li><li>36,6    Baldeneysee: TV 1877 Essen Kupferd
 reh (li) (Tel. 0201/480679 laut Aufschrieb): Kampmannbrücke 1, 45257 Essen 
 (Tel. 0201/8486220 laut Internet)</li><li>17,1    Mülheim: Campingplatz und
  KG Haus Kron</li></ul><p> </p>
X-ALT-DESC;FMTTYPE=text/html:<h2> Wandertour auf der Ruhr</h2><ul><li>Zeitraum: Sa 1.bis Mi 5.8.2015.</l
 i><li>Anfahrt: Sa. 1.8. - erste Paddeletappe.</li><li>Rückfahrt am Mi. 5.8.
 2015.</li><li>Paddeltage: Sonntag - Dienstag.</li><li>Übernachtung auf Camp
 ingplätzen und an Bootshäusern.</li></ul><p>Die Bootsgruppe wird von einem 
 Fahrzeug mit Hänger begleitet, in dem Campingmaterial u.a. Dinge transporti
 ert werden können.</p><ul><li>Empfohlener Bootstyp: Touren- oder Seekajak.<
 /li></ul><p>Wer Interessente hat, der soll sich <a href="https://www.segeln
 -lernen-heidelberg.de/cb-profile/emailuser?uid=75">bitte melden</a>. Treffe
 n am Di. 14.7.15 um 19.30 im Bootshaus</p><h3>Geplanter Streckenverlauf</h3
 ><p>Fluss-km</p><ul><li>87,3    Start: Harkortsee bei Herdecke: Herdecker K
 anu-Club 1925 (Tel. 02330-4071):  Mühlenstr. , 58313 Herdecke<br /><ul><li>
 1 Wehr zum Umtragen bei 83</li><li>1 Wehr zum Umtragen bei 74</li></ul></li
 ><li>73,5     KSC Witten (Tel. 015730774689): Uferstraße 25, 58452 Witten<u
 l><li>1 Wehr zum Umtragen bei ?</li></ul></li><li>57,5    Campingplatz C St
 olle-Hattingen (Tel. 02324/80038): Ruhrstraße 6, 45529 Hattingen</li><li>36
 ,6    Baldeneysee: TV 1877 Essen Kupferdreh (li) (Tel. 0201/480679 laut Auf
 schrieb): Kampmannbrücke 1, 45257 Essen (Tel. 0201/8486220 laut Internet)</
 li><li>17,1    Mülheim: Campingplatz und KG Haus Kron</li></ul><p> </p>
DTSTAMP:20260419T163225
DTSTART;TZID=Europe/Berlin;VALUE=DATE:20150801
DTEND;TZID=Europe/Berlin;VALUE=DATE:20150806
SEQUENCE:0
TRANSP:OPAQUE
END:VEVENT
END:VCALENDAR