BEGIN:VCALENDAR
VERSION:2.0
PRODID:-//jEvents 2.0 for Joomla//EN
CALSCALE:GREGORIAN
METHOD:PUBLISH
BEGIN:VTIMEZONE
TZID:Europe/Berlin
BEGIN:STANDARD
DTSTART:20131212T190000
RDATE:20140330T030000
TZOFFSETFROM:+0200
TZOFFSETTO:+0100
TZNAME:Europe/Berlin CET
END:STANDARD
BEGIN:STANDARD
DTSTART:20141026T020000
RDATE:20150329T030000
TZOFFSETFROM:+0200
TZOFFSETTO:+0100
TZNAME:Europe/Berlin CET
END:STANDARD
BEGIN:STANDARD
DTSTART:20151025T020000
RDATE:20160327T030000
TZOFFSETFROM:+0200
TZOFFSETTO:+0100
TZNAME:Europe/Berlin CET
END:STANDARD
BEGIN:STANDARD
DTSTART:20161030T020000
RDATE:20170326T030000
TZOFFSETFROM:+0200
TZOFFSETTO:+0100
TZNAME:Europe/Berlin CET
END:STANDARD
BEGIN:STANDARD
DTSTART:20171029T020000
RDATE:20180325T030000
TZOFFSETFROM:+0200
TZOFFSETTO:+0100
TZNAME:Europe/Berlin CET
END:STANDARD
BEGIN:STANDARD
DTSTART:20181028T020000
RDATE:20190331T030000
TZOFFSETFROM:+0200
TZOFFSETTO:+0100
TZNAME:Europe/Berlin CET
END:STANDARD
BEGIN:STANDARD
DTSTART:20191027T020000
RDATE:20200329T030000
TZOFFSETFROM:+0200
TZOFFSETTO:+0100
TZNAME:Europe/Berlin CET
END:STANDARD
BEGIN:STANDARD
DTSTART:20201025T020000
RDATE:20210328T030000
TZOFFSETFROM:+0200
TZOFFSETTO:+0100
TZNAME:Europe/Berlin CET
END:STANDARD
BEGIN:STANDARD
DTSTART:20211031T020000
RDATE:20220327T030000
TZOFFSETFROM:+0200
TZOFFSETTO:+0100
TZNAME:Europe/Berlin CET
END:STANDARD
BEGIN:STANDARD
DTSTART:20221030T020000
RDATE:20230326T030000
TZOFFSETFROM:+0200
TZOFFSETTO:+0100
TZNAME:Europe/Berlin CET
END:STANDARD
BEGIN:STANDARD
DTSTART:20231029T020000
RDATE:20240331T030000
TZOFFSETFROM:+0200
TZOFFSETTO:+0100
TZNAME:Europe/Berlin CET
END:STANDARD
BEGIN:STANDARD
DTSTART:20241027T020000
RDATE:20250330T030000
TZOFFSETFROM:+0200
TZOFFSETTO:+0100
TZNAME:Europe/Berlin CET
END:STANDARD
BEGIN:STANDARD
DTSTART:20251026T020000
RDATE:20260329T030000
TZOFFSETFROM:+0200
TZOFFSETTO:+0100
TZNAME:Europe/Berlin CET
END:STANDARD
BEGIN:STANDARD
DTSTART:20261025T020000
RDATE:20270328T030000
TZOFFSETFROM:+0200
TZOFFSETTO:+0100
TZNAME:Europe/Berlin CET
END:STANDARD
BEGIN:STANDARD
DTSTART:20271031T020000
RDATE:20280326T030000
TZOFFSETFROM:+0200
TZOFFSETTO:+0100
TZNAME:Europe/Berlin CET
END:STANDARD
BEGIN:STANDARD
DTSTART:20281029T020000
RDATE:20290325T030000
TZOFFSETFROM:+0200
TZOFFSETTO:+0100
TZNAME:Europe/Berlin CET
END:STANDARD
BEGIN:STANDARD
DTSTART:20291028T020000
RDATE:20300331T030000
TZOFFSETFROM:+0200
TZOFFSETTO:+0100
TZNAME:Europe/Berlin CET
END:STANDARD
BEGIN:STANDARD
DTSTART:20301027T020000
RDATE:20310330T030000
TZOFFSETFROM:+0200
TZOFFSETTO:+0100
TZNAME:Europe/Berlin CET
END:STANDARD
BEGIN:STANDARD
DTSTART:20311026T020000
RDATE:20320328T030000
TZOFFSETFROM:+0200
TZOFFSETTO:+0100
TZNAME:Europe/Berlin CET
END:STANDARD
BEGIN:STANDARD
DTSTART:20321031T020000
RDATE:20330327T030000
TZOFFSETFROM:+0200
TZOFFSETTO:+0100
TZNAME:Europe/Berlin CET
END:STANDARD
BEGIN:STANDARD
DTSTART:20331030T020000
RDATE:20340326T030000
TZOFFSETFROM:+0200
TZOFFSETTO:+0100
TZNAME:Europe/Berlin CET
END:STANDARD
BEGIN:STANDARD
DTSTART:20341029T020000
RDATE:20350325T030000
TZOFFSETFROM:+0200
TZOFFSETTO:+0100
TZNAME:Europe/Berlin CET
END:STANDARD
BEGIN:STANDARD
DTSTART:20351028T020000
RDATE:20360330T030000
TZOFFSETFROM:+0200
TZOFFSETTO:+0100
TZNAME:Europe/Berlin CET
END:STANDARD
BEGIN:DAYLIGHT
DTSTART:20140330T030000
RDATE:20141026T020000
TZOFFSETFROM:+0100
TZOFFSETTO:+0200
TZNAME:Europe/Berlin CEST
END:DAYLIGHT
BEGIN:DAYLIGHT
DTSTART:20150329T030000
RDATE:20151025T020000
TZOFFSETFROM:+0100
TZOFFSETTO:+0200
TZNAME:Europe/Berlin CEST
END:DAYLIGHT
BEGIN:DAYLIGHT
DTSTART:20160327T030000
RDATE:20161030T020000
TZOFFSETFROM:+0100
TZOFFSETTO:+0200
TZNAME:Europe/Berlin CEST
END:DAYLIGHT
BEGIN:DAYLIGHT
DTSTART:20170326T030000
RDATE:20171029T020000
TZOFFSETFROM:+0100
TZOFFSETTO:+0200
TZNAME:Europe/Berlin CEST
END:DAYLIGHT
BEGIN:DAYLIGHT
DTSTART:20180325T030000
RDATE:20181028T020000
TZOFFSETFROM:+0100
TZOFFSETTO:+0200
TZNAME:Europe/Berlin CEST
END:DAYLIGHT
BEGIN:DAYLIGHT
DTSTART:20190331T030000
RDATE:20191027T020000
TZOFFSETFROM:+0100
TZOFFSETTO:+0200
TZNAME:Europe/Berlin CEST
END:DAYLIGHT
BEGIN:DAYLIGHT
DTSTART:20200329T030000
RDATE:20201025T020000
TZOFFSETFROM:+0100
TZOFFSETTO:+0200
TZNAME:Europe/Berlin CEST
END:DAYLIGHT
BEGIN:DAYLIGHT
DTSTART:20210328T030000
RDATE:20211031T020000
TZOFFSETFROM:+0100
TZOFFSETTO:+0200
TZNAME:Europe/Berlin CEST
END:DAYLIGHT
BEGIN:DAYLIGHT
DTSTART:20220327T030000
RDATE:20221030T020000
TZOFFSETFROM:+0100
TZOFFSETTO:+0200
TZNAME:Europe/Berlin CEST
END:DAYLIGHT
BEGIN:DAYLIGHT
DTSTART:20230326T030000
RDATE:20231029T020000
TZOFFSETFROM:+0100
TZOFFSETTO:+0200
TZNAME:Europe/Berlin CEST
END:DAYLIGHT
BEGIN:DAYLIGHT
DTSTART:20240331T030000
RDATE:20241027T020000
TZOFFSETFROM:+0100
TZOFFSETTO:+0200
TZNAME:Europe/Berlin CEST
END:DAYLIGHT
BEGIN:DAYLIGHT
DTSTART:20250330T030000
RDATE:20251026T020000
TZOFFSETFROM:+0100
TZOFFSETTO:+0200
TZNAME:Europe/Berlin CEST
END:DAYLIGHT
BEGIN:DAYLIGHT
DTSTART:20260329T030000
RDATE:20261025T020000
TZOFFSETFROM:+0100
TZOFFSETTO:+0200
TZNAME:Europe/Berlin CEST
END:DAYLIGHT
BEGIN:DAYLIGHT
DTSTART:20270328T030000
RDATE:20271031T020000
TZOFFSETFROM:+0100
TZOFFSETTO:+0200
TZNAME:Europe/Berlin CEST
END:DAYLIGHT
BEGIN:DAYLIGHT
DTSTART:20280326T030000
RDATE:20281029T020000
TZOFFSETFROM:+0100
TZOFFSETTO:+0200
TZNAME:Europe/Berlin CEST
END:DAYLIGHT
BEGIN:DAYLIGHT
DTSTART:20290325T030000
RDATE:20291028T020000
TZOFFSETFROM:+0100
TZOFFSETTO:+0200
TZNAME:Europe/Berlin CEST
END:DAYLIGHT
BEGIN:DAYLIGHT
DTSTART:20300331T030000
RDATE:20301027T020000
TZOFFSETFROM:+0100
TZOFFSETTO:+0200
TZNAME:Europe/Berlin CEST
END:DAYLIGHT
BEGIN:DAYLIGHT
DTSTART:20310330T030000
RDATE:20311026T020000
TZOFFSETFROM:+0100
TZOFFSETTO:+0200
TZNAME:Europe/Berlin CEST
END:DAYLIGHT
BEGIN:DAYLIGHT
DTSTART:20320328T030000
RDATE:20321031T020000
TZOFFSETFROM:+0100
TZOFFSETTO:+0200
TZNAME:Europe/Berlin CEST
END:DAYLIGHT
BEGIN:DAYLIGHT
DTSTART:20330327T030000
RDATE:20331030T020000
TZOFFSETFROM:+0100
TZOFFSETTO:+0200
TZNAME:Europe/Berlin CEST
END:DAYLIGHT
BEGIN:DAYLIGHT
DTSTART:20340326T030000
RDATE:20341029T020000
TZOFFSETFROM:+0100
TZOFFSETTO:+0200
TZNAME:Europe/Berlin CEST
END:DAYLIGHT
BEGIN:DAYLIGHT
DTSTART:20350325T030000
RDATE:20351028T020000
TZOFFSETFROM:+0100
TZOFFSETTO:+0200
TZNAME:Europe/Berlin CEST
END:DAYLIGHT
END:VTIMEZONE
BEGIN:VEVENT
UID:01f2cc0015f7835aa1847823123a59f9
CATEGORIES:Gesamtverein
CREATED:20141112T093458
SUMMARY:Nikolausfeier
LOCATION:WHW-Bootshaus\, Schurmannstraße 2\, 69115 Heidelberg
DESCRIPTION:Alle Mitglieder und Freunde sind herzlich zur diesjährigen Nikolausfeier am
  Samstag, dem 13.12.2013 ab 19 Uhr in unserem Bootshaus eingeladen.\nHauptp
 rogrammpunkt ist wie immer ein gemütliches Zusammensein mit gutem Essen. Wi
 r haben „Hauptessen“ bestellt, Salate und Nachtische sind herzlich willkomm
 en! Kosten für das Essen: €10 (€5 für Kinder). Getränke nach Verbrauch.\nBi
 tte Salat oder Nachtisch mitbringen. Kann als Arbeitsstunden verrechnet wer
 den.\nProgrammpunkte\n - Jahresrückblick\n - Bilder und Videos\n - Spiel &a
 mp; SpaßFür das Abendprogramm kann jeder – gerne auch noch kurzfristig am g
 leichen Abend - passende Bild- oder Filmbeiträge beisteuern!\nHilfe gesucht
 Gesucht werden auch noch Helfer zum Vorbereiten am Fr., 12.12. um 18.00 Uhr
  und zum Aufräumen am So., 14.12. 10.00 Uhr. Zählt natürlich alles als Arbe
 itsstunden! Bitte Rückmeldungen an den Vorstand (Kontaktformular (#kontaktf
 ormular)). Zum Ende des Jahres werden alle Mitglieder gebeten, ihre Arbeits
 stunden korrekt im Arbeitsstundenordner 2014 zu dokumentieren, um Missverst
 ändnisse bei der Abrechnung zu vermeiden!\nMöglichkeiten auch noch in den l
 etzten Wochen des Jahres Arbeitsstunden zu leisten gibt es viele – eine ent
 sprechende Tätigkeitenliste hängt standardmäßig in unserem Bootshaus an der
  Tür zwischen Küche und Lagerhalle. Falls abzusehen ist, dass in einem Jahr
  keine Vereinsressourcen genutzt werden genügt ein formloses Schreiben an d
 en Vorstand, der dann nach entsprechender Prüfung Arbeitsstunden erlassen k
 ann.\nRückmeldung / AnmeldungNewsletter zur Weihnachtsfeier und Einladung a
 ls PDF (component/acymailing/archive/view/listid-2-an-alle-vereinsmitgliede
 r/mailid-376-einladung-zur-nikolausfeier-am-13-12-14)\n
X-ALT-DESC;FMTTYPE=text/html:<p>Alle Mitglieder und Freunde sind herzlich zur diesjährigen Nikolausfeier
  am Samstag, dem 13.12.2013 ab 19 Uhr in unserem Bootshaus eingeladen.</p><
 p>Hauptprogrammpunkt ist wie immer ein gemütliches Zusammensein mit gutem E
 ssen. Wir haben „Hauptessen“ bestellt, Salate und Nachtische sind herzlich 
 willkommen! Kosten für das Essen: €10 (€5 für Kinder). Getränke nach Verbra
 uch.</p><p>Bitte Salat oder Nachtisch mitbringen. Kann als <span class="wor
 kingHour">Arbeitsstunden</span> verrechnet werden.</p><h2>Programmpunkte</h
 2><ul><li>Jahresrückblick</li><li>Bilder und Videos</li><li>Spiel & Spaß</l
 i></ul><p>Für das Abendprogramm kann jeder – gerne auch noch kurzfristig am
  gleichen Abend - passende Bild- oder Filmbeiträge beisteuern!</p><h2>Hilfe
  gesucht</h2><p>Gesucht werden auch noch Helfer zum Vorbereiten am Fr., 12.
 12. um 18.00 Uhr und zum Aufräumen am So., 14.12. 10.00 Uhr. Zählt natürlic
 h alles als <span class="workingHour">Arbeitsstunden</span>! Bitte Rückmeld
 ungen an den Vorstand (<a href="#kontaktformular">Kontaktformular</a>). Zum
  Ende des Jahres werden alle Mitglieder gebeten, ihre Arbeitsstunden korrek
 t im Arbeitsstundenordner 2014 zu dokumentieren, um Missverständnisse bei d
 er Abrechnung zu vermeiden!</p><p>Möglichkeiten auch noch in den letzten Wo
 chen des Jahres <span class="workingHour">Arbeitsstunden</span> zu leisten 
 gibt es viele – eine entsprechende Tätigkeitenliste hängt standardmäßig in 
 unserem Bootshaus an der Tür zwischen Küche und Lagerhalle. Falls abzusehen
  ist, dass in einem Jahr keine Vereinsressourcen genutzt werden genügt ein 
 formloses Schreiben an den Vorstand, der dann nach entsprechender Prüfung A
 rbeitsstunden erlassen kann.</p><h2 id="kontaktformular">Rückmeldung / Anme
 ldung</h2><!-- START: Modules Anywhere --><!--  Modules Anywhere Message: D
 as Modul kann nicht platziert werden, weil es nicht veröffentlicht oder die
 ser Seite zugeordnet ist. --><!-- END: Modules Anywhere --><hr /><p style="
 text-align: center;"><a href="https://www.segeln-lernen-heidelberg.de/compo
 nent/acymailing/archive/view/listid-2-an-alle-vereinsmitglieder/mailid-376-
 einladung-zur-nikolausfeier-am-13-12-14" class="linkbuttonlight">Newsletter
  zur Weihnachtsfeier und Einladung als PDF</a></p>
DTSTAMP:20260422T170557
DTSTART;TZID=Europe/Berlin:20141213T190000
DTEND;TZID=Europe/Berlin:20141213T230000
SEQUENCE:0
TRANSP:OPAQUE
END:VEVENT
END:VCALENDAR