BEGIN:VCALENDAR
VERSION:2.0
PRODID:-//jEvents 2.0 for Joomla//EN
CALSCALE:GREGORIAN
METHOD:PUBLISH
BEGIN:VTIMEZONE
TZID:Europe/Berlin
BEGIN:STANDARD
DTSTART:20120314T193000
RDATE:20120325T030000
TZOFFSETFROM:+0200
TZOFFSETTO:+0100
TZNAME:Europe/Berlin CET
END:STANDARD
BEGIN:STANDARD
DTSTART:20121028T020000
RDATE:20130331T030000
TZOFFSETFROM:+0200
TZOFFSETTO:+0100
TZNAME:Europe/Berlin CET
END:STANDARD
BEGIN:STANDARD
DTSTART:20131027T020000
RDATE:20140330T030000
TZOFFSETFROM:+0200
TZOFFSETTO:+0100
TZNAME:Europe/Berlin CET
END:STANDARD
BEGIN:STANDARD
DTSTART:20141026T020000
RDATE:20150329T030000
TZOFFSETFROM:+0200
TZOFFSETTO:+0100
TZNAME:Europe/Berlin CET
END:STANDARD
BEGIN:STANDARD
DTSTART:20151025T020000
RDATE:20160327T030000
TZOFFSETFROM:+0200
TZOFFSETTO:+0100
TZNAME:Europe/Berlin CET
END:STANDARD
BEGIN:STANDARD
DTSTART:20161030T020000
RDATE:20170326T030000
TZOFFSETFROM:+0200
TZOFFSETTO:+0100
TZNAME:Europe/Berlin CET
END:STANDARD
BEGIN:STANDARD
DTSTART:20171029T020000
RDATE:20180325T030000
TZOFFSETFROM:+0200
TZOFFSETTO:+0100
TZNAME:Europe/Berlin CET
END:STANDARD
BEGIN:STANDARD
DTSTART:20181028T020000
RDATE:20190331T030000
TZOFFSETFROM:+0200
TZOFFSETTO:+0100
TZNAME:Europe/Berlin CET
END:STANDARD
BEGIN:STANDARD
DTSTART:20191027T020000
RDATE:20200329T030000
TZOFFSETFROM:+0200
TZOFFSETTO:+0100
TZNAME:Europe/Berlin CET
END:STANDARD
BEGIN:STANDARD
DTSTART:20201025T020000
RDATE:20210328T030000
TZOFFSETFROM:+0200
TZOFFSETTO:+0100
TZNAME:Europe/Berlin CET
END:STANDARD
BEGIN:STANDARD
DTSTART:20211031T020000
RDATE:20220327T030000
TZOFFSETFROM:+0200
TZOFFSETTO:+0100
TZNAME:Europe/Berlin CET
END:STANDARD
BEGIN:STANDARD
DTSTART:20221030T020000
RDATE:20230326T030000
TZOFFSETFROM:+0200
TZOFFSETTO:+0100
TZNAME:Europe/Berlin CET
END:STANDARD
BEGIN:STANDARD
DTSTART:20231029T020000
RDATE:20240331T030000
TZOFFSETFROM:+0200
TZOFFSETTO:+0100
TZNAME:Europe/Berlin CET
END:STANDARD
BEGIN:STANDARD
DTSTART:20241027T020000
RDATE:20250330T030000
TZOFFSETFROM:+0200
TZOFFSETTO:+0100
TZNAME:Europe/Berlin CET
END:STANDARD
BEGIN:STANDARD
DTSTART:20251026T020000
RDATE:20260329T030000
TZOFFSETFROM:+0200
TZOFFSETTO:+0100
TZNAME:Europe/Berlin CET
END:STANDARD
BEGIN:STANDARD
DTSTART:20261025T020000
RDATE:20270328T030000
TZOFFSETFROM:+0200
TZOFFSETTO:+0100
TZNAME:Europe/Berlin CET
END:STANDARD
BEGIN:STANDARD
DTSTART:20271031T020000
RDATE:20280326T030000
TZOFFSETFROM:+0200
TZOFFSETTO:+0100
TZNAME:Europe/Berlin CET
END:STANDARD
BEGIN:STANDARD
DTSTART:20281029T020000
RDATE:20290325T030000
TZOFFSETFROM:+0200
TZOFFSETTO:+0100
TZNAME:Europe/Berlin CET
END:STANDARD
BEGIN:STANDARD
DTSTART:20291028T020000
RDATE:20300331T030000
TZOFFSETFROM:+0200
TZOFFSETTO:+0100
TZNAME:Europe/Berlin CET
END:STANDARD
BEGIN:STANDARD
DTSTART:20301027T020000
RDATE:20310330T030000
TZOFFSETFROM:+0200
TZOFFSETTO:+0100
TZNAME:Europe/Berlin CET
END:STANDARD
BEGIN:STANDARD
DTSTART:20311026T020000
RDATE:20320328T030000
TZOFFSETFROM:+0200
TZOFFSETTO:+0100
TZNAME:Europe/Berlin CET
END:STANDARD
BEGIN:STANDARD
DTSTART:20321031T020000
RDATE:20330327T030000
TZOFFSETFROM:+0200
TZOFFSETTO:+0100
TZNAME:Europe/Berlin CET
END:STANDARD
BEGIN:STANDARD
DTSTART:20331030T020000
RDATE:20340326T030000
TZOFFSETFROM:+0200
TZOFFSETTO:+0100
TZNAME:Europe/Berlin CET
END:STANDARD
BEGIN:STANDARD
DTSTART:20341029T020000
RDATE:20350325T030000
TZOFFSETFROM:+0200
TZOFFSETTO:+0100
TZNAME:Europe/Berlin CET
END:STANDARD
BEGIN:STANDARD
DTSTART:20351028T020000
RDATE:20360330T030000
TZOFFSETFROM:+0200
TZOFFSETTO:+0100
TZNAME:Europe/Berlin CET
END:STANDARD
BEGIN:DAYLIGHT
DTSTART:20120325T030000
RDATE:20121028T020000
TZOFFSETFROM:+0100
TZOFFSETTO:+0200
TZNAME:Europe/Berlin CEST
END:DAYLIGHT
BEGIN:DAYLIGHT
DTSTART:20130331T030000
RDATE:20131027T020000
TZOFFSETFROM:+0100
TZOFFSETTO:+0200
TZNAME:Europe/Berlin CEST
END:DAYLIGHT
BEGIN:DAYLIGHT
DTSTART:20140330T030000
RDATE:20141026T020000
TZOFFSETFROM:+0100
TZOFFSETTO:+0200
TZNAME:Europe/Berlin CEST
END:DAYLIGHT
BEGIN:DAYLIGHT
DTSTART:20150329T030000
RDATE:20151025T020000
TZOFFSETFROM:+0100
TZOFFSETTO:+0200
TZNAME:Europe/Berlin CEST
END:DAYLIGHT
BEGIN:DAYLIGHT
DTSTART:20160327T030000
RDATE:20161030T020000
TZOFFSETFROM:+0100
TZOFFSETTO:+0200
TZNAME:Europe/Berlin CEST
END:DAYLIGHT
BEGIN:DAYLIGHT
DTSTART:20170326T030000
RDATE:20171029T020000
TZOFFSETFROM:+0100
TZOFFSETTO:+0200
TZNAME:Europe/Berlin CEST
END:DAYLIGHT
BEGIN:DAYLIGHT
DTSTART:20180325T030000
RDATE:20181028T020000
TZOFFSETFROM:+0100
TZOFFSETTO:+0200
TZNAME:Europe/Berlin CEST
END:DAYLIGHT
BEGIN:DAYLIGHT
DTSTART:20190331T030000
RDATE:20191027T020000
TZOFFSETFROM:+0100
TZOFFSETTO:+0200
TZNAME:Europe/Berlin CEST
END:DAYLIGHT
BEGIN:DAYLIGHT
DTSTART:20200329T030000
RDATE:20201025T020000
TZOFFSETFROM:+0100
TZOFFSETTO:+0200
TZNAME:Europe/Berlin CEST
END:DAYLIGHT
BEGIN:DAYLIGHT
DTSTART:20210328T030000
RDATE:20211031T020000
TZOFFSETFROM:+0100
TZOFFSETTO:+0200
TZNAME:Europe/Berlin CEST
END:DAYLIGHT
BEGIN:DAYLIGHT
DTSTART:20220327T030000
RDATE:20221030T020000
TZOFFSETFROM:+0100
TZOFFSETTO:+0200
TZNAME:Europe/Berlin CEST
END:DAYLIGHT
BEGIN:DAYLIGHT
DTSTART:20230326T030000
RDATE:20231029T020000
TZOFFSETFROM:+0100
TZOFFSETTO:+0200
TZNAME:Europe/Berlin CEST
END:DAYLIGHT
BEGIN:DAYLIGHT
DTSTART:20240331T030000
RDATE:20241027T020000
TZOFFSETFROM:+0100
TZOFFSETTO:+0200
TZNAME:Europe/Berlin CEST
END:DAYLIGHT
BEGIN:DAYLIGHT
DTSTART:20250330T030000
RDATE:20251026T020000
TZOFFSETFROM:+0100
TZOFFSETTO:+0200
TZNAME:Europe/Berlin CEST
END:DAYLIGHT
BEGIN:DAYLIGHT
DTSTART:20260329T030000
RDATE:20261025T020000
TZOFFSETFROM:+0100
TZOFFSETTO:+0200
TZNAME:Europe/Berlin CEST
END:DAYLIGHT
BEGIN:DAYLIGHT
DTSTART:20270328T030000
RDATE:20271031T020000
TZOFFSETFROM:+0100
TZOFFSETTO:+0200
TZNAME:Europe/Berlin CEST
END:DAYLIGHT
BEGIN:DAYLIGHT
DTSTART:20280326T030000
RDATE:20281029T020000
TZOFFSETFROM:+0100
TZOFFSETTO:+0200
TZNAME:Europe/Berlin CEST
END:DAYLIGHT
BEGIN:DAYLIGHT
DTSTART:20290325T030000
RDATE:20291028T020000
TZOFFSETFROM:+0100
TZOFFSETTO:+0200
TZNAME:Europe/Berlin CEST
END:DAYLIGHT
BEGIN:DAYLIGHT
DTSTART:20300331T030000
RDATE:20301027T020000
TZOFFSETFROM:+0100
TZOFFSETTO:+0200
TZNAME:Europe/Berlin CEST
END:DAYLIGHT
BEGIN:DAYLIGHT
DTSTART:20310330T030000
RDATE:20311026T020000
TZOFFSETFROM:+0100
TZOFFSETTO:+0200
TZNAME:Europe/Berlin CEST
END:DAYLIGHT
BEGIN:DAYLIGHT
DTSTART:20320328T030000
RDATE:20321031T020000
TZOFFSETFROM:+0100
TZOFFSETTO:+0200
TZNAME:Europe/Berlin CEST
END:DAYLIGHT
BEGIN:DAYLIGHT
DTSTART:20330327T030000
RDATE:20331030T020000
TZOFFSETFROM:+0100
TZOFFSETTO:+0200
TZNAME:Europe/Berlin CEST
END:DAYLIGHT
BEGIN:DAYLIGHT
DTSTART:20340326T030000
RDATE:20341029T020000
TZOFFSETFROM:+0100
TZOFFSETTO:+0200
TZNAME:Europe/Berlin CEST
END:DAYLIGHT
BEGIN:DAYLIGHT
DTSTART:20350325T030000
RDATE:20351028T020000
TZOFFSETFROM:+0100
TZOFFSETTO:+0200
TZNAME:Europe/Berlin CEST
END:DAYLIGHT
END:VTIMEZONE
BEGIN:VEVENT
UID:678e181773dc1e24b0c696e8f4d32462
CATEGORIES:Gesamtverein
CREATED:20130216T170802
SUMMARY:Jahreshauptversammlung 2013 des WHW
LOCATION:Bootshaus des WHW\, Schurmannstraße 2\, 69115 Heidelberg
DESCRIPTION:Tagesordnung\n - Begrüßung\n - Feststellung der Beschlussfähigkeit\n - Best
 ätigung des Protokolls der letzten Jahreshauptversammlung vom 23.3.2012 (si
 ehe Archiv (index.php?option=com_content&amp;view=article&amp;id=106&amp;It
 emid=165&amp;jsmallfib=1&amp;dir=JSROOT/stories/Protokolle-Berichte/Vorstan
 dsprotokolle) mit den Protokollen der JHV)\n - Gedenken &amp; Ehrungen\n - 
 Rechenschaftsberichte\n - Bericht der Kassenprüfer\n - Entlastung des Vorst
 ands\n - Wahlen zum Vorstand\n - Allgemeine Informationen und Ausblick 2013
 \n - Schriftliche Anträge\n - VerschiedenesWichtig – bitte beachtenTurnusmä
 ßig stehen folgende Ämter für eine Amtszeit von drei Jahren zur Wahl:\n\n -
  Vorsitzender (Amtsinhaber steht nicht länger zur Verfügung!)\n - Kassenwar
 t (Amtsinhaber steht nicht länger zur Verfügung!)\n - Kanuwart\n - Erster K
 assenprüferAußerplanmäßig steht nach dem Rücktritt des bisherigen Jugendwar
 ts auch die Wahl eines neuen Jugendwarts für eine Amtszeit von 2 Jahren an 
 sowie die Wahl des im letzten Jahr aus dem Verein ausgeschiedenen zweiten K
 assenprüfers für eine Amtszeit von einem Jahr an.\nEs werden Kandidaten für
  die Wahlen aller zu besetzenden Vorstandsämter gesucht! Alle Abteilungen u
 nd Einzelmitglieder sind aufgefordert hieran aktiv mitzuwirken.\n\n - Der V
 orstand bittet um Mitteilung bei Änderung von Adresse, E-Mail oder Bankverb
 indung von Mitgliedern.\n - Wichtige Termine für 2013 auf der Rückseite der
  beigefügten Einladung.\n - Arbeitsstunden für 2013 bitte ab sofort in den 
 neuen Arbeitsstundenordner eintragen.\n - Anträge für die Jahreshauptversam
 mlung sind nach §15 der Vereinssatzung bis spätestens Freitag, den 1.03.201
 3 schriftlich einzureichen.Die folgenden Termine in 2013 bitte vormerken\n 
 - 15. März: Jahreshauptversammlung\n - 6. April: Stegaufbau\n - 4. /5. Mai:
  Ansegeln**\n - 8. / 9. Juni: Vereinsregatta **\n - 29./30. Juni: Optiregat
 ta / Stadtjugendmeisterschaft **\n - 13. / 14. Juli: Sommerfest + Lasermatc
 hrace **\n - (Abends mit dem Vereinskanadier „Hackteufel" zur Schlossbeleuc
 htung)\n - 21. / 22. September: Vereinsregatta **\n - 12. / 13. Oktober: Ab
 segeln **\n - 26. Oktober: Stegabbau* Die Paddlerjahresplanung wurde schon 
 als Newsletter an alle Kanuten verschickt.\n** Diese Termine sind bis zur B
 estätigung durch die Wasserschutzpolizei zunächst noch vorläufig.\n
X-ALT-DESC;FMTTYPE=text/html:<h2>Tagesordnung</h2><ol><li>Begrüßung</li><li>Feststellung der Beschlussfä
 higkeit</li><li>Bestätigung des Protokolls der letzten Jahreshauptversammlu
 ng vom 23.3.2012 (siehe <a href="https://www.segeln-lernen-heidelberg.de/in
 dex.php?option=com_content&view=article&id=106&Itemid=165&jsmallfib=1&dir=J
 SROOT/stories/Protokolle-Berichte/Vorstandsprotokolle" target="_blank">Arch
 iv</a> mit den Protokollen der JHV)</li><li>Gedenken & Ehrungen</li><li>Rec
 henschaftsberichte</li><li>Bericht der Kassenprüfer</li><li>Entlastung des 
 Vorstands</li><li>Wahlen zum Vorstand</li><li>Allgemeine Informationen und 
 Ausblick 2013</li><li>Schriftliche Anträge</li><li>Verschiedenes</li></ol><
 h2>Wichtig – bitte beachten</h2><p>Turnusmäßig stehen folgende Ämter für ei
 ne Amtszeit von drei Jahren zur Wahl:</p><ul><li>Vorsitzender (Amtsinhaber 
 steht nicht länger zur Verfügung!)</li><li>Kassenwart (Amtsinhaber steht ni
 cht länger zur Verfügung!)</li><li>Kanuwart</li><li>Erster Kassenprüfer</li
 ></ul><p>Außerplanmäßig steht nach dem Rücktritt des bisherigen Jugendwarts
  auch die Wahl eines neuen Jugendwarts für eine Amtszeit von 2 Jahren an so
 wie die Wahl des im letzten Jahr aus dem Verein ausgeschiedenen zweiten Kas
 senprüfers für eine Amtszeit von einem Jahr an.</p><p>Es werden Kandidaten 
 für die Wahlen aller zu besetzenden Vorstandsämter gesucht! Alle Abteilunge
 n und Einzelmitglieder sind aufgefordert hieran aktiv mitzuwirken.</p><ul><
 li>Der Vorstand bittet um Mitteilung bei Änderung von Adresse, E-Mail oder 
 Bankverbindung von Mitgliedern.</li><li>Wichtige Termine für 2013 auf der R
 ückseite der beigefügten Einladung.</li><li>Arbeitsstunden für 2013 bitte a
 b sofort in den neuen Arbeitsstundenordner eintragen.</li><li>Anträge für d
 ie Jahreshauptversammlung sind nach §15 der Vereinssatzung bis spätestens <
 strong>Freitag, den 1.03.2013</strong> schriftlich einzureichen.</li></ul><
 h2>Die folgenden Termine in 2013 bitte vormerken</h2><ul><li>15. März: Jahr
 eshauptversammlung</li><li>6. April: Stegaufbau</li><li>4. /5. Mai: Ansegel
 n**</li><li>8. / 9. Juni: Vereinsregatta **</li><li>29./30. Juni: Optiregat
 ta / Stadtjugendmeisterschaft **</li><li>13. / 14. Juli: Sommerfest + Laser
 matchrace **</li><li>(Abends mit dem Vereinskanadier „Hackteufel" zur Schlo
 ssbeleuchtung)</li><li>21. / 22. September: Vereinsregatta **</li><li>12. /
  13. Oktober: Absegeln **</li><li>26. Oktober: Stegabbau</li></ul><p>* Die 
 Paddlerjahresplanung wurde schon als Newsletter an alle Kanuten verschickt.
 <br />** Diese Termine sind bis zur Bestätigung durch die Wasserschutzpoliz
 ei zunächst noch vorläufig.</p>
DTSTAMP:20260425T035430
DTSTART;TZID=Europe/Berlin:20130315T193000
DTEND;TZID=Europe/Berlin:20130315T213000
SEQUENCE:0
TRANSP:OPAQUE
END:VEVENT
END:VCALENDAR